BEGIN:VCALENDAR
VERSION:2.0
PRODID:spatie/icalendar-generator
DESCRIPTION:Evenementen van HiroShop
X-WR-CALDESC:Evenementen van HiroShop
REFRESH-INTERVAL;VALUE=DURATION:PT1440M
X-PUBLISHED-TTL:PT1440M
BEGIN:VTIMEZONE
TZID:Etc/GMT-2
BEGIN:STANDARD
DTSTART:20250811T180000Z
TZOFFSETFROM:+0200
TZOFFSETTO:+0200
END:STANDARD
END:VTIMEZONE
BEGIN:VTIMEZONE
TZID:UTC
BEGIN:STANDARD
DTSTART:20250729T192102Z
TZOFFSETFROM:+0000
TZOFFSETTO:+0000
END:STANDARD
END:VTIMEZONE
BEGIN:VEVENT
UID:27-25
DTSTAMP:20260425T192102Z
SUMMARY:Lorcana Wilds Unknown Pre-Release
LOCATION:HiroShop Heusden Tramstraat 48  Heusden  9070
ORGANIZER;CN=Niels Brackeva:MAILTO:nbrackeva@gmail.com
DTSTART;TZID=Etc/GMT-2:20260508T180000
DTEND;TZID=Etc/GMT-2:20260508T210000
X-ALT-DESC;FMTTYPE=TEXT/HTML:Doe mee aan een Lorcana Pre-Release! Info &amp;amp
 \; Tickets
CATEGORIES:General
URL;VALUE=URI:https://www.hiroshop.be/mc-events/lorcana-wilds-unknown-pre-r
 elease/
METHOD:PUBLISH
END:VEVENT
END:VCALENDAR