BEGIN:VCALENDAR
VERSION:2.0
PRODID:spatie/icalendar-generator
DESCRIPTION:Evenementen van HiroShop
X-WR-CALDESC:Evenementen van HiroShop
REFRESH-INTERVAL;VALUE=DURATION:PT1440M
X-PUBLISHED-TTL:PT1440M
BEGIN:VTIMEZONE
TZID:Etc/GMT-2
BEGIN:STANDARD
DTSTART:20250819T100000Z
TZOFFSETFROM:+0200
TZOFFSETTO:+0200
END:STANDARD
END:VTIMEZONE
BEGIN:VTIMEZONE
TZID:UTC
BEGIN:STANDARD
DTSTART:20250729T191908Z
TZOFFSETFROM:+0000
TZOFFSETTO:+0000
END:STANDARD
END:VTIMEZONE
BEGIN:VEVENT
UID:26-24
DTSTAMP:20260425T191908Z
SUMMARY:Pokémon Schattings- &amp;amp\; Aankoopdag
LOCATION:HiroShop Heusden Tramstraat 48  Heusden  9070
ORGANIZER;CN=Niels Brackeva:MAILTO:nbrackeva@gmail.com
DTSTART;TZID=Etc/GMT-2:20260516T100000
DTEND;TZID=Etc/GMT-2:20260516T160000
X-ALT-DESC;FMTTYPE=TEXT/HTML:Je Pokémon kaarten laten schatten of verkopen
 ? Onze experts zitten voor je klaar!
CATEGORIES:General
URL;VALUE=URI:https://www.hiroshop.be/mc-events/pokemon-schattings-aankoopd
 ag-3/
METHOD:PUBLISH
END:VEVENT
END:VCALENDAR