BEGIN:VCALENDAR
VERSION:2.0
PRODID:spatie/icalendar-generator
DESCRIPTION:Evenementen van HiroShop
X-WR-CALDESC:Evenementen van HiroShop
REFRESH-INTERVAL;VALUE=DURATION:PT1440M
X-PUBLISHED-TTL:PT1440M
BEGIN:VTIMEZONE
TZID:Etc/GMT-2
BEGIN:STANDARD
DTSTART:20250825T090000Z
TZOFFSETFROM:+0200
TZOFFSETTO:+0200
END:STANDARD
END:VTIMEZONE
BEGIN:VTIMEZONE
TZID:UTC
BEGIN:STANDARD
DTSTART:20250729T194917Z
TZOFFSETFROM:+0000
TZOFFSETTO:+0000
END:STANDARD
END:VTIMEZONE
BEGIN:VEVENT
UID:22-20
DTSTAMP:20260425T194917Z
SUMMARY:Pokémon - Chaos Rising Release Days
LOCATION:HiroShop Heusden Tramstraat 48  Heusden  9070
ORGANIZER;CN=Niels Brackeva:MAILTO:nbrackeva@gmail.com
DTSTART;TZID=Etc/GMT-2:20260522T090000
DTEND;TZID=Etc/GMT-2:20260523T160000
X-ALT-DESC;FMTTYPE=TEXT/HTML:Chaos Rising de nieuwe Pokémon-reeks komt uit
  op 22 mei! Om de release van deze reeks te vieren geven we een gratis boo
 sterbox* weg aan 1 gelukkige winnaar welke bij ons komt shoppen op 22/23 m
 ei! Let op - we werken met een ticket systeem zodat je 100% zekerheid op e
 en Elite Trainer Box hebt\,&amp;hellip\;
CATEGORIES:General
URL;VALUE=URI:https://www.hiroshop.be/mc-events/pokemon-chaos-rising-releas
 e-days/
METHOD:PUBLISH
END:VEVENT
END:VCALENDAR